BEGIN:VCALENDAR
VERSION:2.0
PRODID:-//Asociación INTERVAL - ECPv5.1.6//NONSGML v1.0//EN
CALSCALE:GREGORIAN
METHOD:PUBLISH
X-WR-CALNAME:Asociación INTERVAL
X-ORIGINAL-URL:https://interval.interop-vlab.es
X-WR-CALDESC:Eventos para Asociación INTERVAL
BEGIN:VTIMEZONE
TZID:Europe/Madrid
BEGIN:DAYLIGHT
TZOFFSETFROM:+0100
TZOFFSETTO:+0200
TZNAME:CEST
DTSTART:20200329T010000
END:DAYLIGHT
BEGIN:STANDARD
TZOFFSETFROM:+0200
TZOFFSETTO:+0100
TZNAME:CET
DTSTART:20201025T010000
END:STANDARD
END:VTIMEZONE
BEGIN:VEVENT
DTSTART;TZID=Europe/Madrid:20200325T133000
DTEND;TZID=Europe/Madrid:20200325T153000
DTSTAMP:20260422T205159
CREATED:20200305T130701Z
LAST-MODIFIED:20200305T130701Z
UID:446-1585143000-1585150200@interval.interop-vlab.es
SUMMARY:Workshop on Digital Platform Ecosystems: From Interoperability to Federation (IFED 2020)
DESCRIPTION:Proposed by: Violeta Damjanovic-Behrendt\, Ricardo Goncalves \nOrganisation and email of first proposer: Salzburg Research (violeta.damjanovic@salzburgresearch.at)
URL:https://interval.interop-vlab.es/evento/workshop-on-digital-platform-ecosystems-from-interoperability-to-federation-ifed-2020/
LOCATION:ENIT\, 47 avenue d'Azereix - BP 1629\, TARBES Cedex\, 65016\, Francia
CATEGORIES:Eventos
END:VEVENT
END:VCALENDAR